BEGIN:VCALENDAR
VERSION:2.0
PRODID:-//Le Lerchenberg - ECPv6.15.20//NONSGML v1.0//EN
CALSCALE:GREGORIAN
METHOD:PUBLISH
X-WR-CALNAME:Le Lerchenberg
X-ORIGINAL-URL:https://www.le-lerchenberg.fr
X-WR-CALDESC:Évènements pour Le Lerchenberg
REFRESH-INTERVAL;VALUE=DURATION:PT1H
X-Robots-Tag:noindex
X-PUBLISHED-TTL:PT1H
BEGIN:VTIMEZONE
TZID:Europe/Paris
BEGIN:DAYLIGHT
TZOFFSETFROM:+0100
TZOFFSETTO:+0200
TZNAME:CEST
DTSTART:20240331T010000
END:DAYLIGHT
BEGIN:STANDARD
TZOFFSETFROM:+0200
TZOFFSETTO:+0100
TZNAME:CET
DTSTART:20241027T010000
END:STANDARD
BEGIN:DAYLIGHT
TZOFFSETFROM:+0100
TZOFFSETTO:+0200
TZNAME:CEST
DTSTART:20250330T010000
END:DAYLIGHT
BEGIN:STANDARD
TZOFFSETFROM:+0200
TZOFFSETTO:+0100
TZNAME:CET
DTSTART:20251026T010000
END:STANDARD
BEGIN:DAYLIGHT
TZOFFSETFROM:+0100
TZOFFSETTO:+0200
TZNAME:CEST
DTSTART:20260329T010000
END:DAYLIGHT
BEGIN:STANDARD
TZOFFSETFROM:+0200
TZOFFSETTO:+0100
TZNAME:CET
DTSTART:20261025T010000
END:STANDARD
END:VTIMEZONE
BEGIN:VEVENT
DTSTART;TZID=Europe/Paris:20251019T120000
DTEND;TZID=Europe/Paris:20251019T170000
DTSTAMP:20260425T154513
CREATED:20250806T151753Z
LAST-MODIFIED:20251006T081240Z
UID:3832-1760875200-1760893200@www.le-lerchenberg.fr
SUMMARY:Fête de la Choucroute - Fête alsacienne
DESCRIPTION:Retrouvez la Fête de la Choucroute du Lerchenberg\, grande Fête alsacienne\, le dimanche 19 octobre à partir de midi\, qui se perpétue et revient pour vous dans la salle de spectacle pour renouer avec cette grande tradition de Dornach.\n \nLa Fête de la Choucroute se déroulera au Lerchenberg\, 11 rue du Cercle à Mulhouse. \nLes bretzels seront grillés à point\, la bière et le vin couleront à flots et la choucroute prête à être dégustée\, pour vous permettre de passer une journée festive et conviviale. \nProfitez également tout en dégustant votre choucroute de l’animation musicale et folklorique avec le groupe Sundgauvia\, qui vous présenteront des danses alsaciennes en musique parés de leurs plus beaux costumes traditionnels. \nVous pourrez également tenter de participer à la tombola et remporter de nombreux lots. \nNous vous attendons dans la joie et la bonne humeur pour cette fête qui est aussi la vôtre ! \nRepas (choucroute + dessert + café) : 25 €\nTarif enfant – 10 ans : 12 €\nRéservation obligatoire avant le 13 octobre : 06 45 94 99 35 ou culture@lerchenberg.fr
URL:https://www.le-lerchenberg.fr/agenda/fete-choucroute-2025/
LOCATION:Lerchenberg\, 11 rue du Cercle\, MULHOUSE\, 68200
CATEGORIES:Evénements du Lerch'
ATTACH;FMTTYPE=image/jpeg:https://www.le-lerchenberg.fr/wp-inside/uploads/2025/08/fete_choucroute_visuel_1.jpg
ORGANIZER;CN="Association Le Lerch":MAILTO:lerchenberg.culture@gmail.com
END:VEVENT
END:VCALENDAR