BEGIN:VCALENDAR
VERSION:2.0
PRODID:-//Le Lerchenberg - ECPv6.15.20//NONSGML v1.0//EN
CALSCALE:GREGORIAN
METHOD:PUBLISH
X-ORIGINAL-URL:https://www.le-lerchenberg.fr
X-WR-CALDESC:Évènements pour Le Lerchenberg
REFRESH-INTERVAL;VALUE=DURATION:PT1H
X-Robots-Tag:noindex
X-PUBLISHED-TTL:PT1H
BEGIN:VTIMEZONE
TZID:Europe/Paris
BEGIN:DAYLIGHT
TZOFFSETFROM:+0100
TZOFFSETTO:+0200
TZNAME:CEST
DTSTART:20220327T010000
END:DAYLIGHT
BEGIN:STANDARD
TZOFFSETFROM:+0200
TZOFFSETTO:+0100
TZNAME:CET
DTSTART:20221030T010000
END:STANDARD
BEGIN:DAYLIGHT
TZOFFSETFROM:+0100
TZOFFSETTO:+0200
TZNAME:CEST
DTSTART:20230326T010000
END:DAYLIGHT
BEGIN:STANDARD
TZOFFSETFROM:+0200
TZOFFSETTO:+0100
TZNAME:CET
DTSTART:20231029T010000
END:STANDARD
BEGIN:DAYLIGHT
TZOFFSETFROM:+0100
TZOFFSETTO:+0200
TZNAME:CEST
DTSTART:20240331T010000
END:DAYLIGHT
BEGIN:STANDARD
TZOFFSETFROM:+0200
TZOFFSETTO:+0100
TZNAME:CET
DTSTART:20241027T010000
END:STANDARD
END:VTIMEZONE
BEGIN:VEVENT
DTSTART;TZID=Europe/Paris:20230907T200000
DTEND;TZID=Europe/Paris:20230907T220000
DTSTAMP:20260421T223536
CREATED:20230803T133946Z
LAST-MODIFIED:20230904T141308Z
UID:1564-1694116800-1694124000@www.le-lerchenberg.fr
SUMMARY:Confé' Soirées - A la découverte du Ladakh
DESCRIPTION:Les Confé’ Soirées continuent pour un nouveau cycle de conférences-débats vous invitant au voyage et à la découverte les 2e jeudis du mois à 20h. \nLe Lerchenberg étant en travaux\, les conférences se dérouleront au centre Teilhard de Chardin\, 17 rue de la Cigale à Mulhouse. \nLe jeudi 7 septembre à 20h\, Nathalie et Marc Denny nous invitent à voyager avec eux au Ladakh-Zanskar\, dans la région du Jammu-Cachemire en Inde\, à travers une projection-conférence et une expo-vente d’artisanat indien.\n#ConfeSoireesLadakh \nC’est au cours d’un voyage au Ladakh en 2006 qu’ils découvrent le centre des personnes âgées de Choglamsar. Touchés par les conditions de vie difficiles de ces personnes\, ils décident en 2010 de fonder l’association Mola Pola pour faire partager la vie de ces populations ainsi que de les soutenir financièrement. \nIls vous partageront le récit de leurs différents voyages dans cette région méconnue du monde\, dans laquelle ils retournent régulièrement\, à travers leurs expériences mémorables\, les clichés somptueux qu’ils prennent et leurs rencontres avec les locaux et les personnes âgées du centre qu’ils soutiennent. \nVous pourrez également retrouver des produits d’artisanat indien dans le cadre d’une expo-vente qu’ils vous proposeront lors de cette conférence. \nEntrée libre – Plateau\nBénéfice de la soirée reversé au centre de Choglamsar\nRenseignements au 06 45 94 99 35
URL:https://www.le-lerchenberg.fr/agenda/confe-soirees-decouverte-ladakh/
LOCATION:Maison diocésaine Teilhard de Chardin\, 17 rue de la Cigale\, MULHOUSE\, 68200
CATEGORIES:Confé' Soirées
ATTACH;FMTTYPE=image/jpeg:https://www.le-lerchenberg.fr/wp-inside/uploads/2023/08/2012-08-16__207.jpg
ORGANIZER;CN="Association Le Lerch":MAILTO:lerchenberg.culture@gmail.com
END:VEVENT
END:VCALENDAR