BEGIN:VCALENDAR
VERSION:2.0
PRODID:-//Le Lerchenberg - ECPv6.15.20//NONSGML v1.0//EN
CALSCALE:GREGORIAN
METHOD:PUBLISH
X-WR-CALNAME:Le Lerchenberg
X-ORIGINAL-URL:https://www.le-lerchenberg.fr
X-WR-CALDESC:Évènements pour Le Lerchenberg
REFRESH-INTERVAL;VALUE=DURATION:PT1H
X-Robots-Tag:noindex
X-PUBLISHED-TTL:PT1H
BEGIN:VTIMEZONE
TZID:UTC
BEGIN:STANDARD
TZOFFSETFROM:+0000
TZOFFSETTO:+0000
TZNAME:UTC
DTSTART:20220101T000000
END:STANDARD
END:VTIMEZONE
BEGIN:VEVENT
DTSTART;TZID=UTC:20230608T200000
DTEND;TZID=UTC:20230608T213000
DTSTAMP:20260422T034657
CREATED:20230417T100347Z
LAST-MODIFIED:20230614T155504Z
UID:1230-1686254400-1686259800@www.le-lerchenberg.fr
SUMMARY:Confé' Soirées - La société industrielle de Mulhouse\, curiosité scientifique\, audace et solidarité
DESCRIPTION:Les Confé’ Soirées continuent pour un nouveau cycle de conférences-débats vous invitant au voyage et à la découverte les 2e jeudis du mois à 20h. \n \nLe Lerchenberg étant en travaux\, les conférences se dérouleront au centre Teilhard de Chardin\, 17 rue de la Cigale à Mulhouse. \nLe jeudi 8 juin à 20h\, René Tessier viendra vous présenter un des pans importants de l’histoire de Mulhouse\, la Société Industrielle de Mulhouse\, entre curiosité scientifique\, audace et solidarité. \nA l’origine notamment du Musées de l’Impression sur Etoffes\, du Musée des Beaux-Arts et \, la Société industrielle de Mulhouse\, aujourd’hui connue des PME innovantes et de grands groupes\, a fédéré la quasi-totalité du monde industriel et scientifique de la région mulhousienne au 19ème siècle et irriguée intellectuellement des centaines d’entreprises bien au-delà des limites du Haut-Rhin et même de la France. \nMême si la chimie a été le domaine de prédilection de la SIM\, celle-ci s’est intéressée à d’autres domaines scientifiques et techniques\, aux questions commerciales ainsi qu’à la condition ouvrière. \nC’est son histoire\, celles des hommes qui l’ont façonné et de son influence que le conférencier va vous présenter. \nEntrée libre – Plateau\nBénéfice des soirées reversé pour les travaux de rénovation du Lerchenberg\nRenseignements au 06 45 94 99 35
URL:https://www.le-lerchenberg.fr/agenda/confe-soirees-sim/
LOCATION:Maison diocésaine Teilhard de Chardin\, 17 rue de la Cigale\, MULHOUSE\, 68200
CATEGORIES:Confé' Soirées
ATTACH;FMTTYPE=image/jpeg:https://www.le-lerchenberg.fr/wp-inside/uploads/2022/12/confe_soirees_sim_exterieur_lerchenberg.jpg
ORGANIZER;CN="Association Le Lerch":MAILTO:lerchenberg.culture@gmail.com
END:VEVENT
END:VCALENDAR