BEGIN:VCALENDAR
VERSION:2.0
PRODID:-//Le Lerchenberg - ECPv6.15.20//NONSGML v1.0//EN
CALSCALE:GREGORIAN
METHOD:PUBLISH
X-ORIGINAL-URL:https://www.le-lerchenberg.fr
X-WR-CALDESC:Évènements pour Le Lerchenberg
REFRESH-INTERVAL;VALUE=DURATION:PT1H
X-Robots-Tag:noindex
X-PUBLISHED-TTL:PT1H
BEGIN:VTIMEZONE
TZID:Europe/Paris
BEGIN:DAYLIGHT
TZOFFSETFROM:+0100
TZOFFSETTO:+0200
TZNAME:CEST
DTSTART:20230326T010000
END:DAYLIGHT
BEGIN:STANDARD
TZOFFSETFROM:+0200
TZOFFSETTO:+0100
TZNAME:CET
DTSTART:20231029T010000
END:STANDARD
BEGIN:DAYLIGHT
TZOFFSETFROM:+0100
TZOFFSETTO:+0200
TZNAME:CEST
DTSTART:20240331T010000
END:DAYLIGHT
BEGIN:STANDARD
TZOFFSETFROM:+0200
TZOFFSETTO:+0100
TZNAME:CET
DTSTART:20241027T010000
END:STANDARD
BEGIN:DAYLIGHT
TZOFFSETFROM:+0100
TZOFFSETTO:+0200
TZNAME:CEST
DTSTART:20250330T010000
END:DAYLIGHT
BEGIN:STANDARD
TZOFFSETFROM:+0200
TZOFFSETTO:+0100
TZNAME:CET
DTSTART:20251026T010000
END:STANDARD
END:VTIMEZONE
BEGIN:VEVENT
DTSTART;TZID=Europe/Paris:20241212T200000
DTEND;TZID=Europe/Paris:20241212T213000
DTSTAMP:20260420T165822
CREATED:20240409T132011Z
LAST-MODIFIED:20241127T131152Z
UID:2162-1734033600-1734039000@www.le-lerchenberg.fr
SUMMARY:Confé' Soirées - Sophrologie\, science de la conscience
DESCRIPTION:Les Confé’ Soirées reprennent au Lerchenberg\, 11 rue du Cercle à Mulhouse\, pour un nouveau cycle de conférences-débats vous invitant au voyage et à la découverte les 2e jeudis du mois à 20h. \n \nLe jeudi 12 décembre à 20h\, Patricia Palut vous proposera de vous initier à la sophrologie\, science de l’étude de la conscience en équilibre et en harmonie\, à travers un atelier-conférence participatif. \nLa sophrologie est une méthode psycho-corporelle simple\, accessible à tous et facile d’accès qui a pour objectif de développer l’équilibre de la conscience de soi grâce à un entrainement personnel. Elle est basée sur des techniques de relaxation\, d’activation du corps et de l’esprit.\nGrace à cette méthode\, il est possible d’apprendre à mieux se connaître\, se découvrir\, se gérer mais aussi transformer les ressources\, les capacités que l’on a en soi.\nLa pratique régulière de la sophrologie favorise la perception positive du corps\, de l’esprit\, des émotions et des valeurs de la personne. \nA travers cette initiation\, Patricia vous propose une parenthèse\, une respiration au cœur de votre vie. Ce sera un temps privilégié pour se-retrouver\, se-reconnecter à soi\, re-trouver confiance et énergie. \nDécouvrez son site web : www.invia-mulhouse.fr et retrouvez-la sur son compte Instagram : https://www.instagram.com/l_essentiel_cest_vous et sa page Facebook : https://www.facebook.com/profile.php?id=100089632909402\nVous pouvez également la contacter au : 06 60 09 92 48 \nUne buvette sera ouverte lors de la soirée afin d’étancher votre soif. \nTarif : 5 €\nPré-paiement possible en ligne : https://www.helloasso.com/associations/association-le-lerch/evenements/confe-soirees-sophrologie-science-de-la-conscience\nRenseignements : 06 45 94 99 35 – culture@lerchenberg.fr
URL:https://www.le-lerchenberg.fr/agenda/confe-soirees-sophrologie/
LOCATION:Lerchenberg\, 11 rue du Cercle\, MULHOUSE\, 68200
CATEGORIES:Confé' Soirées
ATTACH;FMTTYPE=image/jpeg:https://www.le-lerchenberg.fr/wp-inside/uploads/2024/04/confe_soirees_sophrologie_visuel_1.jpg
ORGANIZER;CN="Association Le Lerch":MAILTO:lerchenberg.culture@gmail.com
END:VEVENT
END:VCALENDAR