BEGIN:VCALENDAR
VERSION:2.0
PRODID:-//Le Lerchenberg - ECPv6.15.20//NONSGML v1.0//EN
CALSCALE:GREGORIAN
METHOD:PUBLISH
X-WR-CALNAME:Le Lerchenberg
X-ORIGINAL-URL:https://www.le-lerchenberg.fr
X-WR-CALDESC:Évènements pour Le Lerchenberg
REFRESH-INTERVAL;VALUE=DURATION:PT1H
X-Robots-Tag:noindex
X-PUBLISHED-TTL:PT1H
BEGIN:VTIMEZONE
TZID:Europe/Paris
BEGIN:DAYLIGHT
TZOFFSETFROM:+0100
TZOFFSETTO:+0200
TZNAME:CEST
DTSTART:20230326T010000
END:DAYLIGHT
BEGIN:STANDARD
TZOFFSETFROM:+0200
TZOFFSETTO:+0100
TZNAME:CET
DTSTART:20231029T010000
END:STANDARD
BEGIN:DAYLIGHT
TZOFFSETFROM:+0100
TZOFFSETTO:+0200
TZNAME:CEST
DTSTART:20240331T010000
END:DAYLIGHT
BEGIN:STANDARD
TZOFFSETFROM:+0200
TZOFFSETTO:+0100
TZNAME:CET
DTSTART:20241027T010000
END:STANDARD
BEGIN:DAYLIGHT
TZOFFSETFROM:+0100
TZOFFSETTO:+0200
TZNAME:CEST
DTSTART:20250330T010000
END:DAYLIGHT
BEGIN:STANDARD
TZOFFSETFROM:+0200
TZOFFSETTO:+0100
TZNAME:CET
DTSTART:20251026T010000
END:STANDARD
END:VTIMEZONE
BEGIN:VEVENT
DTSTART;TZID=Europe/Paris:20240516T200000
DTEND;TZID=Europe/Paris:20240516T213000
DTSTAMP:20260421T063820
CREATED:20240319T092637Z
LAST-MODIFIED:20240409T132511Z
UID:2089-1715889600-1715895000@www.le-lerchenberg.fr
SUMMARY:Confé' Soirées - En chemin vers Jérusalem : La Turquie\, de Izmir à Antalya
DESCRIPTION:Les Confé’ Soirées reprennent au Lerchenberg\, 11 rue du Cercle à Mulhouse\, pour un nouveau cycle de conférences-débats vous invitant au voyage et à la découverte les 2e jeudis du mois à 20h. \n \nEmpruntez vous aussi le chemin de Jérusalem en suivant les traces de Claude Hatterer qui vous racontera son expérience le jeudi 16 mai à 20h à travers son pèlerinage sur les sentiers de Turquie\, de Izmir à Antalya. \nAprès avoir marché de Canterbury à Rome\, puis de Rome à Athènes \, Claude progresse vers le but qu’il s’était fixé avec son épouse\, Françoise et qu’il poursuit depuis le Départ de cette dernière : Jérusalem. \nEn octobre 2022\, il relie les villes turques d’Izmir à Antalya\, soit 650 km à pied\, avec son ami Patrick\, qui l’accompagne et l’aide à longer la côte méditerranéenne\, d’abord sur les chemins et routes face aux iles grecques de Samos et Rhodes\, puis sur le chemin lycien\, la célèbre Lykia Yolu\, qui multiplie les passages de criques pentues et rocheuses\, tout en visitant de nombreux sites archéologiques lyciens\, grecs et romains. Un mélange de mer et de montagnes\, de sport et de culture ancienne. \n« Le Chemin\, c’est marcher en humilité\, liberté et spiritualité\, durant une parenthèse de sa vie\, de se laisser surprendre par soi même et se projeter vers l’avenir. C’est aussi découvrir de nouveaux paysages et de nouvelles personnes\, pèlerins ou habitants\, et de partager avec elles. C’est tellement beau que cela donne envie de témoigner et de repartir ! \nUne buvette sera ouverte lors de la soirée afin d’étancher votre soif. \nTarif : 5 €\nPré-paiement possible en ligne : https://www.helloasso.com/associations/association-le-lerch/evenements/en-chemin-vers-jerusalem\nRenseignements au 06 45 94 99 35
URL:https://www.le-lerchenberg.fr/agenda/confe-soirees-jerusalem-turquie/
LOCATION:Lerchenberg\, 11 rue du Cercle\, MULHOUSE\, 68200
CATEGORIES:Confé' Soirées
ATTACH;FMTTYPE=image/jpeg:https://www.le-lerchenberg.fr/wp-inside/uploads/2024/03/confe_soirees_turquie_visuel_1.jpg
ORGANIZER;CN="Association Le Lerch":MAILTO:lerchenberg.culture@gmail.com
END:VEVENT
END:VCALENDAR